Workbook

Sheet 1. Background
A1: >> Question: How to apply statistics to assess if a change to an Algorithmic Trading Strategy improves its performance?
A3: Background:
A4: An "Algoritmic" (or "Systematic") Trading Strategy can be described as a set of trading rules applied to a portfolio of financial instruments such as stocks, futures & currencies.
A6: The below table illustrates the results from 2 historic simulations of a stock trading system over 21+ years using daily price data since Dec 1998.
A7: The simulations are based on a stock portfolio including all the constituents of the S&P 500 since 1998 including delisted stocks (i.e. it includes stocks that used to be in the index but no longer trade)
A8: The portfolio contains around 1020 stocks in total.
A10: Two simulations are performed to test if a change to a rebalancing rule improves the trading system's performance (all other parameters and rules remain unchanged):
A11: >> Test 1 ("Before Change") - No Rebalancing
A12: >> Test 2 ("After Change") - Rebalancing Relative to Position Size
A14: We will focus this analysis on the MAR & Sharpe Ratios
A15: As can be seen in the table, the simulation with the system that uses "Relative to Position" rebalancing, generates a higher MAR Ratio and a higher Sharpe Ratio.

Sheet 2. Problem
A1: >>> A potential issue:
A3: Based on the initial simulation results, one could easily conclude that rebalancing "Relative to Position" generates superior results.
A5: >> A potential issue here is that a small number of stocks could drive the large improvement.
A6: The result of the simulations (with / without rebalancing) could be very different applied to a sub-set of the universe. The risk that the result differs is even higher if the test is performed on a completely different universe of stocks.
A7: To illustrate, lets generate a random portfolio where we randomly select 200 stocks from the same universe and then perform the simulation:
A13: The result has reversed! Both the MAR & Sharpe Ratios are now lower when the positions are rebalanced.
A15: Problem: How do we use statistics to assess if the change to the Systematic Trading Strategy results in a significant improvement across a large number of different portfolios?

Sheet 3. Methodology
A1: Methodology to assess if the change to the trading system results in a meaningful improvement across a large number of portfolios:
A2: 1. Generate a number (30-50) of random portfolios.
A3: 2. For each random portfolio, run tests "Before" and "After" the system change.
A4: 3. Calculate the difference in the selected metrics (e.g. MAR, Sharpe…) from the simulation results before and after the change.
A5: 4. Test the Sample data for Normality (Online tools can be used). The statistical calculations (e.g. Confidence interval) work on the assumption that the data is normal.
A6: --> IF NOT Normal, "Boot Strapping" can be applied.
A7: 5. Calculate the Margin of Error and Confidence Interval for the difference in Means to assess if the change to the system results in a significant improvement (online tools or in Excel).
A8: 6. If desired, calculate the the required sample Size to reduce the margin of error.
A10: Conditions to consider when contructing Confidence interval:
A11: > Random Sample - "Yes" we randomly select stocks out of a larger universe
B12: Note: We should generate 30+ sample portfolios to achieve an acceptable Margin of Error
A13: > Normal - We conduct a Normality test (online tools can be used) to assess if the sample output data follows a normal distribution.
A14: BUT even if the sample data does not show normality , then The Central Limit Theorem states that the Sampling distribution of Sampling means will be roughly normal and we could use "Boot Strapping"
A15: > Independence - "Yes" as we use independent portfolios.
B16: Note: Unless we have a very large universe, we will need to accept that the same stock might be included to multiple portfolios. This to achive a meaingful portfolio size (number of stocks)
B17: This should not have a meaningful impact on the independence criteria as the the number of possible combinations will be very large
B18: So for Example, a universe of 1000 stocks should allow for sample portfolios of 200 stocks
B19: Obviously the sample portfolios could be constructed on a completely different (and much larger) universe than the one used for the intial simulation
A21: EXCEL Sheets:
A22: "Sample Data" Simulations of before and after the system change using 33 random stock portfolios
A23: "Normaility Test" We use different tools: Online tool (easiest), Q-Q Plot and The Chi-Square Goodness -of-Fit test (most complicated) to assess if the sample data follows a normal distribution
A24: "Conf. Intv." Calculation of Margin of Error, Conf. Intv and Sample Size in relation to the difference in Means of Sample Data. We show calculations from both online tool and Excel.
A25: "Bootstrapping" Calculation of Margin of Error & Conf. Intv using Bootstrapping . Included only as an alternative route in case the sample data is NOT Normal.
A27: For Reference:
A28: "z-stat vs t-stat" - general info
A29: "Example of Conf. Intv" - general info
A30: "t-dist" - general info
A31: "Central Limit Th." - general info on Central Limit Theorem

Sheet 4. Sample Data
A1: Sample Data
A2: Simulations were performed without rebalancing (MAR Before) and with rebalancing (MAR After) on 33 Random Portfolios containing 200 randomly selected stocks with replacement.
B4: MAR Before | C4: MAR After | D4: Difference | E4: % Diff | F4: Sharpe Before | G4: Sharpe After | H4: Difference | I4: % Diff | L4: % Diff | M4: % Diff
A5: Initial Portfolio (all 1000+ stocks) | B5: 0.35 | C5: 0.57 | D5: =C5-B5 -> 0.22 | E5: =D5/B5 -> 0.62857143 | F5: 0.77 | G5: 0.99 | H5: =G5-F5 -> 0.22 | I5: =H5/F5 -> 0.28571429 | L5: MAR | M5: Sharpe
A6: Increased risk per position from 0.1% to 0.3% (compared to test including entire universe) to achive desired risk level | L6: Data for online tools ( % can't be used)
A7: Random Portfolio 1 (200 stocks) | B7: 0.29 | C7: 0.62 | D7: =C7-B7 -> 0.33 | E7: =D7/B7 -> 1.137931 | F7: 0.72 | G7: 0.91 | H7: =G7-F7 -> 0.19 | I7: =H7/F7 -> 0.26388889 | L7: =E7 -> 1.137931 | M7: =I7 -> 0.26388889
A8: Random Portfolio 2 | B8: 0.36 | C8: 0.48 | D8: =C8-B8 -> 0.12 | E8: =D8/B8 -> 0.33333333 | F8: 0.76 | G8: 0.89 | H8: =G8-F8 -> 0.13 | I8: =H8/F8 -> 0.17105263 | L8: =E8 -> 0.33333333 | M8: =I8 -> 0.17105263
A9: Random Portfolio 3 | B9: 0.38 | C9: 0.54 | D9: =C9-B9 -> 0.16 | E9: =D9/B9 -> 0.42105263 | F9: 0.75 | G9: 0.81 | H9: =G9-F9 -> 0.06 | I9: =H9/F9 -> 0.08 | L9: =E9 -> 0.42105263 | M9: =I9 -> 0.08
A10: Random Portfolio 4 | B10: 0.68 | C10: 0.57 | D10: =C10-B10 -> -0.11 | E10: =D10/B10 -> -0.16176471 | F10: 0.99 | G10: 1.04 | H10: =G10-F10 -> 0.05 | I10: =H10/F10 -> 0.050505051 | L10: =E10 -> -0.16176471 | M10: =I10 -> 0.050505051
A11: Random Portfolio 5 | B11: 0.31 | C11: 0.45 | D11: =C11-B11 -> 0.14 | E11: =D11/B11 -> 0.4516129 | F11: 0.7 | G11: 0.86 | H11: =G11-F11 -> 0.16 | I11: =H11/F11 -> 0.22857143 | L11: =E11 -> 0.4516129 | M11: =I11 -> 0.22857143
A12: Random Portfolio 6 | B12: 0.28 | C12: 0.45 | D12: =C12-B12 -> 0.17 | E12: =D12/B12 -> 0.60714286 | F12: 0.6 | G12: 0.8 | H12: =G12-F12 -> 0.2 | I12: =H12/F12 -> 0.33333333 | L12: =E12 -> 0.60714286 | M12: =I12 -> 0.33333333
A13: Random Portfolio 7 | B13: 0.23 | C13: 0.41 | D13: =C13-B13 -> 0.18 | E13: =D13/B13 -> 0.7826087 | F13: 0.58 | G13: 0.81 | H13: =G13-F13 -> 0.23 | I13: =H13/F13 -> 0.39655172 | L13: =E13 -> 0.7826087 | M13: =I13 -> 0.39655172
A14: Random Portfolio 8 | B14: 0.23 | C14: 0.46 | D14: =C14-B14 -> 0.23 | E14: =D14/B14 -> 1 | F14: 0.69 | G14: 0.82 | H14: =G14-F14 -> 0.13 | I14: =H14/F14 -> 0.1884058 | L14: =E14 -> 1 | M14: =I14 -> 0.1884058
A15: Random Portfolio 9 | B15: 0.42 | C15: 0.46 | D15: =C15-B15 -> 0.04 | E15: =D15/B15 -> 0.095238095 | F15: 0.83 | G15: 0.8 | H15: =G15-F15 -> -0.03 | I15: =H15/F15 -> -0.036144578 | L15: =E15 -> 0.095238095 | M15: =I15 -> -0.036144578
A16: Random Portfolio 10 | B16: 0.11 | C16: 0.2 | D16: =C16-B16 -> 0.09 | E16: =D16/B16 -> 0.81818182 | F16: 0.41 | G16: 0.55 | H16: =G16-F16 -> 0.14 | I16: =H16/F16 -> 0.34146341 | L16: =E16 -> 0.81818182 | M16: =I16 -> 0.34146341
A17: Random Portfolio 11 | B17: 0.32 | C17: 0.52 | D17: =C17-B17 -> 0.2 | E17: =D17/B17 -> 0.625 | F17: 0.72 | G17: 0.87 | H17: =G17-F17 -> 0.15 | I17: =H17/F17 -> 0.20833333 | L17: =E17 -> 0.625 | M17: =I17 -> 0.20833333
A18: Random Portfolio 12 | B18: 0.32 | C18: 0.54 | D18: =C18-B18 -> 0.22 | E18: =D18/B18 -> 0.6875 | F18: 0.8 | G18: 0.86 | H18: =G18-F18 -> 0.06 | I18: =H18/F18 -> 0.075 | L18: =E18 -> 0.6875 | M18: =I18 -> 0.075
... A39: Random Portfolio 33 | B39: 0.35 | C39: 0.53 | D39: =C39-B39 -> 0.18 | E39: =D39/B39 -> 0.51428571 | F39: 0.79 | G39: 0.93 | H39: =G39-F39 -> 0.14 | I39: =H39/F39 -> 0.17721519 | L39: =E39 -> 0.51428571 | M39: =I39 -> 0.17721519
A41: Sample Mean ("x_bar"): | B41: =AVERAGE(B7:B39) -> 0.32939394 | C41: =AVERAGE(C7:C39) -> 0.44818182 | D41: =AVERAGE(D7:D39) -> 0.11878788 | E41: =AVERAGE(E7:E39) -> 0.41501835 | F41: =AVERAGE(F7:F39) -> 0.72363636 | G41: =AVERAGE(G7:G39) -> 0.82 | H41: =AVERAGE(H7:H39) -> 0.096363636 | I41: =AVERAGE(I7:I39) -> 0.14353934
A43: Sample St. Dev. ("s"): | D43: =_xlfn.STDEV.S(D7:D39) -> 0.089643655 | E43: =_xlfn.STDEV.S(E7:E39) -> 0.3046368 | H43: =_xlfn.STDEV.S(H7:H39) -> 0.068548258 | I43: =_xlfn.STDEV.S(I7:I39) -> 0.11227475

Sheet 5.1 Norm. test - Online
A1: The statistical calculations (e.g. Confidence interval) normally work on the assumption that the data is normal. Therefore, it is important to determine if the sample data distribution matches the Characteristics of a Normal distribution.
A2: The easiest way to assess if the sample output data (the result to be statistically assessed) is normal is to use an online tool. A few alternative ways to check for normality are described in the sheets "Q-Q Plot" & "Chi Squared"
A4: A couple of useful links for online tools which are free and easy to use:
A5: https://www.socscistatistics.com/tests/kolmogorov/default.aspx | E5: https://www.statskingdom.com/320ShapiroWilk.html
A6: Easy to use, does the job but less output Information | E6: Easy to use but more confusing output, mainly due to additional information
E7: Additional output both in terms of charts and figures
E8: For best results and the all the charts, the input sample size should exceed 50

Sheet 5.2 Norm. test Q-Q Plot
A1: Another relatively easy way to make a quick assessment if the sample output data is normal is to do a Q-Q Plot. From charts below, we have a scatter diagram (Q-Q plot) of the standardized normal data against the sample data. From the plot, there is an indication that the data fits quite well with the trend line which is a good indicator that the original data is approximately Normal.
A2: But Q-Q Plot is not as accurate and not as quick as using an online tool!
A6: MAR | B6: MAR | C6: MAR | D6: MAR | E6: MAR | R6: Sharpe | S6: Sharpe | T6: Sharpe | U6: Sharpe | V6: Sharpe
A7: Sample Data (Diff. in %) | B7: Rank | C7: Percentile | D7: Z-Score | R7: Sample Data (Diff. in %) | S7: Rank | T7: Percentile | U7: Z-Score
A8: -0.16176471 | B8: =RANK(A8,$A$8:$A$40,1) -> 1 | C8: =(B8-0.5)/COUNT($B$8:$B$40) -> 0.015151515 | D8: =_xlfn.NORM.S.INV(C8) -> -2.1661068 | E8: =A8 -> -0.16176471 | R8: -0.10958904 | S8: =RANK(R8,$R$8:$R$40,1) -> 1 | T8: =(S8-0.5)/COUNT($S$8:$S$40) -> 0.015151515 | U8: =_xlfn.NORM.S.INV(T8) -> -2.1661068 | V8: =R8 -> -0.10958904
A9: -0.097560976 | B9: =RANK(A9,$A$8:$A$47,1) -> 2 | C9: =(B9-0.5)/COUNT($B$8:$B$40) -> 0.045454545 | D9: =_xlfn.NORM.S.INV(C9) -> -1.6906216 | E9: =A9 -> -0.097560976 | R9: -0.0375 | S9: =RANK(R9,$R$8:$R$40,1) -> 2 | T9: =(S9-0.5)/COUNT($S$8:$S$40) -> 0.045454545 | U9: =_xlfn.NORM.S.INV(T9) -> -1.6906216 | V9: =R9 -> -0.0375
A10: -0.048780488 | B10: =RANK(A10,$A$8:$A$47,1) -> 3 | C10: =(B10-0.5)/COUNT($B$8:$B$40) -> 0.075757576 | D10: =_xlfn.NORM.S.INV(C10) -> -1.4342002 | E10: =A10 -> -0.048780488 | R10: -0.036144578 | S10: =RANK(R10,$R$8:$R$40,1) -> 3 | T10: =(S10-0.5)/COUNT($S$8:$S$40) -> 0.075757576 | U10: =_xlfn.NORM.S.INV(T10) -> -1.4342002 | V10: =R10 -> -0.036144578
A11: 0.033333333 | B11: =RANK(A11,$A$8:$A$47,1) -> 4 | C11: =(B11-0.5)/COUNT($B$8:$B$40) -> 0.10606061 | D11: =_xlfn.NORM.S.INV(C11) -> -1.2477539 | E11: =A11 -> 0.033333333 | R11: -0.011111111 | S11: =RANK(R11,$R$8:$R$40,1) -> 4 | T11: =(S11-0.5)/COUNT($S$8:$S$40) -> 0.10606061 | U11: =_xlfn.NORM.S.INV(T11) -> -1.2477539 | V11: =R11 -> -0.011111111
A12: 0.068965517 | B12: =RANK(A12,$A$8:$A$47,1) -> 5 | C12: =(B12-0.5)/COUNT($B$8:$B$40) -> 0.13636364 | D12: =_xlfn.NORM.S.INV(C12) -> -1.0968036 | E12: =A12 -> 0.068965517 | R12: 0.050505051 | S12: =RANK(R12,$R$8:$R$40,1) -> 5 | T12: =(S12-0.5)/COUNT($S$8:$S$40) -> 0.13636364 | U12: =_xlfn.NORM.S.INV(T12) -> -1.0968036 | V12: =R12 -> 0.050505051
A13: 0.095238095 | B13: =RANK(A13,$A$8:$A$47,1) -> 6 | C13: =(B13-0.5)/COUNT($B$8:$B$40) -> 0.16666667 | D13: =_xlfn.NORM.S.INV(C13) -> -0.96742157 | E13: =A13 -> 0.095238095 | R13: 0.074626866 | S13: =RANK(R13,$R$8:$R$40,1) -> 6 | T13: =(S13-0.5)/COUNT($S$8:$S$40) -> 0.16666667 | U13: =_xlfn.NORM.S.INV(T13) -> -0.96742157 | V13: =R13 -> 0.074626866
A14: 0.097560976 | B14: =RANK(A14,$A$8:$A$47,1) -> 7 | C14: =(B14-0.5)/COUNT($B$8:$B$40) -> 0.1969697 | D14: =_xlfn.NORM.S.INV(C14) -> -0.85249503 | E14: =A14 -> 0.097560976 | R14: 0.075 | S14: =RANK(R14,$R$8:$R$40,1) -> 7 | T14: =(S14-0.5)/COUNT($S$8:$S$40) -> 0.1969697 | U14: =_xlfn.NORM.S.INV(T14) -> -0.85249503 | V14: =R14 -> 0.075
A15: 0.13953488 | B15: =RANK(A15,$A$8:$A$47,1) -> 8 | C15: =(B15-0.5)/COUNT($B$8:$B$40) -> 0.22727273 | D15: =_xlfn.NORM.S.INV(C15) -> -0.74785859 | E15: =A15 -> 0.13953488 | R15: 0.075757576 | S15: =RANK(R15,$R$8:$R$40,1) -> 8 | T15: =(S15-0.5)/COUNT($S$8:$S$40) -> 0.22727273 | U15: =_xlfn.NORM.S.INV(T15) -> -0.74785859 | V15: =R15 -> 0.075757576
A16: 0.17142857 | B16: =RANK(A16,$A$8:$A$47,1) -> 9 | C16: =(B16-0.5)/COUNT($B$8:$B$40) -> 0.25757576 | D16: =_xlfn.NORM.S.INV(C16) -> -0.65083731 | E16: =A16 -> 0.17142857 | R16: 0.08 | S16: =RANK(R16,$R$8:$R$40,1) -> 9 | T16: =(S16-0.5)/COUNT($S$8:$S$40) -> 0.25757576 | U16: =_xlfn.NORM.S.INV(T16) -> -0.65083731 | V16: =R16 -> 0.08
A17: 0.25641026 | B17: =RANK(A17,$A$8:$A$47,1) -> 10 | C17: =(B17-0.5)/COUNT($B$8:$B$40) -> 0.28787879 | D17: =_xlfn.NORM.S.INV(C17) -> -0.55959227 | E17: =A17 -> 0.25641026 | R17: 0.1025641 | S17: =RANK(R17,$R$8:$R$40,1) -> 10 | T17: =(S17-0.5)/COUNT($S$8:$S$40) -> 0.28787879 | U17: =_xlfn.NORM.S.INV(T17) -> -0.55959227 | V17: =R17 -> 0.1025641
A18: 0.29032258 | B18: =RANK(A18,$A$8:$A$47,1) -> 11 | C18: =(B18-0.5)/COUNT($B$8:$B$40) -> 0.31818182 | D18: =_xlfn.NORM.S.INV(C18) -> -0.47278912 | E18: =A18 -> 0.29032258 | R18: 0.10810811 | S18: =RANK(R18,$R$8:$R$40,1) -> 11 | T18: =(S18-0.5)/COUNT($S$8:$S$40) -> 0.31818182 | U18: =_xlfn.NORM.S.INV(T18) -> -0.47278912 | V18: =R18 -> 0.10810811
A19: 0.33333333 | B19: =RANK(A19,$A$8:$A$47,1) -> 12 | C19: =(B19-0.5)/COUNT($B$8:$B$40) -> 0.34848485 | D19: =_xlfn.NORM.S.INV(C19) -> -0.3894143 | E19: =A19 -> 0.33333333 | R19: 0.10810811 | S19: =RANK(R19,$R$8:$R$40,1) -> 11 | T19: =(S19-0.5)/COUNT($S$8:$S$40) -> 0.31818182 | U19: =_xlfn.NORM.S.INV(T19) -> -0.47278912 | V19: =R19 -> 0.10810811
A20: 0.36363636 | B20: =RANK(A20,$A$8:$A$47,1) -> 13 | C20: =(B20-0.5)/COUNT($B$8:$B$40) -> 0.37878788 | D20: =_xlfn.NORM.S.INV(C20) -> -0.30866581 | E20: =A20 -> 0.36363636 | R20: 0.1125 | S20: =RANK(R20,$R$8:$R$40,1) -> 13 | T20: =(S20-0.5)/COUNT($S$8:$S$40) -> 0.37878788 | U20: =_xlfn.NORM.S.INV(T20) -> -0.30866581 | V20: =R20 -> 0.1125
... A40: 1.137931 | B40: =RANK(A40,$A$8:$A$47,1) -> 33 | C40: =(B40-0.5)/COUNT($B$8:$B$40) -> 0.98484848 | D40: =_xlfn.NORM.S.INV(C40) -> 2.1661068 | E40: =A40 -> 1.137931 | R40: 0.39655172 | S40: =RANK(R40,$R$8:$R$40,1) -> 33 | T40: =(S40-0.5)/COUNT($S$8:$S$40) -> 0.98484848 | U40: =_xlfn.NORM.S.INV(T40) -> 2.1661068 | V40: =R40 -> 0.39655172

Sheet 5.3 Norm. test - Chi Squared
A1: To make an assessment if the sample output data is normal in EXCEL one can conduct a "Chi-Squared Goodness of Fit" test (or another test for normality). Obviously more time consuming…
A2: Can be programmed but then we could just use an online tool | L2: The Chi-Squared Goodness -of-Fit test
B3: MAR | C3: MAR | D3: Sharpe | E3: Sharpe | T3: >> "Data Analysis" --> "Descriptive Statistics"
B4: Diff | C4: Diff in % | D4: Diff | E4: Diff in % | G4: The Chi-Squared Goodness -of-Fit test | T4: Column1
A5: Random Portfolio 1 | B5: 0.33 | C5: 1.137931 | D5: 0.19 | E5: 0.26388889 | G5: 1. Setup the Hypothesis: | L5: Percentage Diff in MAR
A6: Random Portfolio 2 | B6: 0.12 | C6: 0.33333333 | D6: 0.13 | E6: 0.17105263 | G6: The two hypotheses for the Chi-Squared Goodness-of-Fit test are: | K6: Bins | L6: CDF to Left | M6: Bin Only | N6: Exp. Observ. | O6: Observ. | Q6: Bin | R6: Frequency | T6: Mean | U6: 0.41501835
A7: Random Portfolio 3 | B7: 0.16 | C7: 0.42105263 | D7: 0.06 | E7: 0.08 | G7: Null hypothesis (Ho): The data is normal. | K7: 0.1 | L7: =_xlfn.NORM.DIST(K7,$U$6,$U$10,TRUE) -> 0.15054975 | M7: =L7 -> 0.15054975 | N7: =M7*$U$18 -> 4.9681416 | O7: =R7 -> 7 | P7: =((N7-O7)^2)/N7 -> 0.83098445 | Q7: 0.1 | R7: 7 | T7: Standard Error | U7: 0.05303046
A8: Random Portfolio 4 | B8: -0.11 | C8: -0.16176471 | D8: 0.05 | E8: 0.050505051 | G8: Alternative hypothesis (Ha): The data is not normal. | K8: 0.36 | L8: =_xlfn.NORM.DIST(K8,$U$6,$U$10,TRUE) -> 0.42833957 | M8: =L8-L7 -> 0.27778982 | N8: =M8*$U$18 -> 9.167064 | O8: =R8 -> 5 | P8: =((N8-O8)^2)/N8 -> 1.8942186 | Q8: 0.36 | R8: 5 | T8: Median | U8: 0.44444444
A9: Random Portfolio 5 | B9: 0.14 | C9: 0.4516129 | D9: 0.16 | E9: 0.22857143 | G9: 2. Calculate X2 (Chi Squared) | K9: 0.5 | L9: =_xlfn.NORM.DIST(K9,$U$6,$U$10,TRUE) -> 0.60986246 | M9: =L9-L8 -> 0.18152289 | N9: =M9*$U$18 -> 5.9902554 | O9: =R9 -> 8 | P9: =((N9-O9)^2)/N9 -> 0.67427401 | Q9: 0.5 | R9: 8 | T9: Mode | U9: 0.4516129
A10: Random Portfolio 6 | B10: 0.17 | C10: 0.60714286 | D10: 0.2 | E10: 0.33333333 | G10: Step 1: Set up "Bins" based on Sample Data | K10: 0.7 | L10: =_xlfn.NORM.DIST(K10,$U$6,$U$10,TRUE) -> 0.82522953 | M10: =L10-L9 -> 0.21536707 | N10: =M10*$U$18 -> 7.1071133 | O10: =R10 -> 8 | P10: =((N10-O10)^2)/N10 -> 0.11217588 | Q10: 0.7 | R10: 8 | T10: Standard Deviation | U10: 0.3046368
A11: Random Portfolio 7 | B11: 0.18 | C11: 0.7826087 | D11: 0.23 | E11: 0.39655172 | G11: Note: Bins to be se up so Observerd & Exp. Observ. >= 5 | K11: 1.15 | L11: =_xlfn.NORM.DIST(K11,$U$6,$U$10,TRUE) -> 0.99208147 | M11: =L11-L10 -> 0.16685194 | N11: =M11*$U$18 -> 5.5061141 | O11: =R11 -> 5 | P11: =((N11-O11)^2)/N11 -> 0.046521282 | Q11: 1.15 | R11: 5 | T11: Sample Variance | U11: 0.092803579
A12: Random Portfolio 8 | B12: 0.23 | C12: 1 | D12: 0.13 | E12: 0.1884058 | G12: Note: Bins do no need to be same size | Q12: More | R12: 0 | T12: Kurtosis | U12: -0.017248592
A13: Random Portfolio 9 | B13: 0.04 | C13: 0.095238095 | D13: -0.03 | E13: -0.036144578 | G13: Step 2: Calculate Sample Mean & SD | L13: =SUM(L7:L11) -> 3.0060628 | M13: =SUM(M7:M12) -> 0.99208147 | O13: X2 (Chi squar.) | P13: =SUM(P7:P12) -> 3.5581742 | T13: Skewness | U13: 0.17326739
A14: Random Portfolio 10 | B14: 0.09 | C14: 0.81818182 | D14: 0.14 | E14: 0.34146341 | G14: >> "Data Analysis" --> "Descriptive Stat" can be used | T14: Range | U14: 1.2996957
A15: Random Portfolio 11 | B15: 0.2 | C15: 0.625 | D15: 0.15 | E15: 0.20833333 | G15: Step 3: Calculate, CDF to left, Bin Only & Exp Observations | T15: Minimum | U15: -0.16176471
A16: Random Portfolio 12 | B16: 0.22 | C16: 0.6875 | D16: 0.06 | E16: 0.075 | G16: Step 4: Calculate Frequency of actual observations | T16: Maximum | U16: 1.137931
A17: Random Portfolio 13 | B17: 0.14 | C17: 0.42424242 | D17: 0.13 | E17: 0.17567568 | G17: >> E.g. use "Data Analysis"--> "Histogram" | T17: Sum | U17: 13.695605
A18: Random Portfolio 14 | B18: 0.18 | C18: 0.54545455 | D18: 0.08 | E18: 0.11267606 | G18: Step 5: Calculate X2 ( "Chi Squared") | T18: Count | U18: 33
A19: Random Portfolio 15 | B19: 0.12 | C19: 0.42857143 | D19: 0.05 | E19: 0.075757576 | G19: 3. Calculate X2 critical or p-value | T19: Confidence Level(95.0%) | U19: 0.10801951
A20: Random Portfolio 16 | B20: 0.08 | C20: 0.36363636 | D20: 0.09 | E20: 0.13432836 | G20: 4. Conclusion - Approach 1:
A21: Random Portfolio 17 | B21: 0.14 | C21: 0.4516129 | D21: 0.08 | E21: 0.11428571 | G21: Compare X2 to critical Value | J21: (95% of dens. func. to the left of critical) | L21: The Chi-Squared Goodness -of-Fit test | T21: Column1
A22: Random Portfolio 18 | B22: 0.18 | C22: 0.51428571 | D22: 0.08 | E22: 0.10810811 | G22: IF X2 < "X2 Critical", we do NOT reject Null Hypothesis | L22: Percentage Diff in Sharpe
A23: Random Portfolio 19 | B23: 0.04 | C23: 0.097560976 | D23: 0.09 | E23: 0.1125 | G23: >>> Data is Normal | K23: Bins | L23: CDF to Left | M23: Bin Only | N23: Exp. Observ. | O23: Observ. | Q23: Bin | R23: Frequency | T23: Mean | U23: 0.14353934
A24: Random Portfolio 20 | B24: 0.01 | C24: 0.033333333 | D24: -0.08 | E24: -0.10958904 | G24: Conclusion - Approach 2: | K24: 0.06 | L24: =_xlfn.NORM.DIST(K24,$U$23,$U$27,TRUE) -> 0.22841958 | M24: =L24 -> 0.22841958 | N24: =M24*$U$35 -> 7.5378462 | O24: =R24 -> 5 | P24: =((N24-O24)^2)/N24 -> 0.85444347 | Q24: 0.06 | R24: 5 | T24: Standard Error | U24: 0.019544525
A25: Random Portfolio 21 | B25: 0.25 | C25: 0.75757576 | D25: 0.08 | E25: 0.1025641 | G25: Calculate p-Value | K25: 0.11 | L25: =_xlfn.NORM.DIST(K25,$U$23,$U$27,TRUE) -> 0.38257473 | M25: =L25-L24 -> 0.15415514 | N25: =M25*$U$35 -> 5.0871197 | O25: =R25 -> 7 | P25: =((N25-O25)^2)/N25 -> 0.71928934 | Q25: 0.11 | R25: 7 | T25: Median | U25: 0.13432836
A26: Random Portfolio 22 | B26: -0.04 | C26: -0.097560976 | D26: -0.03 | E26: -0.0375 | G26: If p-value > (1 - Confidence Level), we do NOT reject Null hyothesis | K26: 0.17 | L26: =_xlfn.NORM.DIST(K26,$U$23,$U$27,TRUE) -> 0.59315864 | M26: =L26-L25 -> 0.21058391 | N26: =M26*$U$35 -> 6.9492692 | O26: =R26 -> 8 | P26: =((N26-O26)^2)/N26 -> 0.15887071 | Q26: 0.17 | R26: 8 | T26: Mode | U26: 0.10810811
A27: Random Portfolio 23 | B27: 0.09 | C27: 0.29032258 | D27: 0.05 | E27: 0.074626866 | G27: >>> Data is Normal | K27: 0.24 | L27: =_xlfn.NORM.DIST(K27,$U$23,$U$27,TRUE) -> 0.80487066 | M27: =L27-L26 -> 0.21171202 | N27: =M27*$U$35 -> 6.9864965 | O27: =R27 -> 8 | P27: =((N27-O27)^2)/N27 -> 0.14702495 | Q27: 0.24 | R27: 8 | T27: Standard Deviation | U27: 0.11227475
A28: Random Portfolio 24 | B28: 0.1 | C28: 0.25641026 | D28: 0.08 | E28: 0.10810811 | H28: % Diff in MAR | I28: Diff in % | K28: 0.4 | L28: =_xlfn.NORM.DIST(K28,$U$23,$U$27,TRUE) -> 0.98882081 | M28: =L28-L27 -> 0.18395016 | N28: =M28*$U$35 -> 6.0703552 | O28: =R28 -> 5 | P28: =((N28-O28)^2)/N28 -> 0.18873034 | Q28: 0.4 | R28: 5 | T28: Sample Variance | U28: 0.012605619
A29: Random Portfolio 25 | B29: 0.06 | C29: 0.13953488 | D29: 0.1 | E29: 0.14285714 | G29: X2 (Chi Square) | H29: =P13 -> 3.5581742 | I29: =P29 -> 2.0683588 | L29: =SUM(L24:L28) -> 2.9978444 | M29: =SUM(M23:M28) -> 0.98882081 | O29: X2 (Chi squar.) | P29: =SUM(P24:P28) -> 2.0683588 | Q29: More | R29: 0 | T29: Kurtosis | U29: 0.4176264
A30: Random Portfolio 26 | B30: 0.16 | C30: 0.51612903 | D30: 0.12 | E30: 0.15584416 | T30: Skewness | U30: 0.18157841
A31: Random Portfolio 27 | B31: 0.02 | C31: 0.068965517 | D31: 0.12 | E31: 0.17391304 | G31: Calculate X2 critical or p-value | T31: Range | U31: 0.50614077
A32: Random Portfolio 28 | B32: 0.14 | C32: 0.5 | D32: 0.09 | E32: 0.12328767 | G32: degrees freedom | H32: =COUNT(K7:K12)-1-2 -> 2 | I32: =COUNT(K24:K29)-1-2 -> 2 | T32: Minimum | U32: -0.10958904
A33: Random Portfolio 29 | B33: -0.02 | C33: -0.048780488 | D33: -0.01 | E33: -0.011111111 | G33: Confidence | H33: 0.95 | I33: =H33 -> 0.95 | T33: Maximum | U33: 0.39655172
A34: Random Portfolio 30 | B34: 0.16 | C34: 0.44444444 | D34: 0.11 | E34: 0.1375 | G34: X2 Critical | H34: =_xlfn.CHISQ.INV.RT(1-H33,H32) -> 5.9914645 | I34: =_xlfn.CHISQ.INV.RT(1-I33,I32) -> 5.9914645 | T34: Sum | U34: 4.7367981
A35: Random Portfolio 31 | B35: 0.1 | C35: 0.52631579 | D35: 0.14 | E35: 0.22580645 | G35: Cum. Prob. | H35: =_xlfn.CHISQ.DIST(H29,H32,TRUE) -> 0.83120783 | I35: =_xlfn.CHISQ.DIST(I29,I32,TRUE) -> 0.644482 | T35: Count | U35: 33
A36: Random Portfolio 32 | B36: 0.06 | C36: 0.17142857 | D36: 0.2 | E36: 0.33898305 | G36: p-value | H36: =1-H35 -> 0.16879217 | I36: =1-I35 -> 0.355518 | T36: Confidence Level(95.0%) | U36: 0.039810895
A37: Random Portfolio 33 | B37: 0.18 | C37: 0.51428571 | D37: 0.14 | E37: 0.17721519 | G37: p-value | H37: =CHIDIST(H29,H32) -> 0.16879217 | I37: =CHIDIST(I29,I32) -> 0.355518
G38: p-value | H38: =_xlfn.CHISQ.DIST.RT(H29,H32) -> 0.16879217 | I38: =_xlfn.CHISQ.DIST.RT(I29,I32) -> 0.355518
A39: Sample Mean ("x_bar"): | B39: =AVERAGE(B5:B37) -> 0.11878788 | C39: =AVERAGE(C5:C37) -> 0.41501835 | D39: =AVERAGE(D5:D37) -> 0.096363636 | E39: =AVERAGE(E5:E37) -> 0.14353934
A40: Sample St. Dev. ("s"): | B40: =_xlfn.STDEV.S(B5:B37) -> 0.089643655 | C40: =_xlfn.STDEV.S(C5:C37) -> 0.3046368 | D40: =_xlfn.STDEV.S(D5:D37) -> 0.068548258 | E40: =_xlfn.STDEV.S(E5:E37) -> 0.11227475 | G40: Conclusion:
A41: median | C41: =MEDIAN(C5:C37) -> 0.44444444 | E41: =MEDIAN(E5:E37) -> 0.13432836 | G41: X2 is smaller than X2 critical value
G42: We Do NOT reject the null Hypothesis
H43: >> Data is Normal | I43: >> Data is Normal

Sheet 6.1 Conf. Intv. - Online
A1: The easiest way to calculate Margin of Error and confidence interval is to use an online tool ! | D1: Input: | M1: Output (This is what we are really after !):
M2: >> With 95% confidence, the improvement in MAR is between 30.7% and 52.3% <<
A3: Online tools which are free and easy to use:
A4: https://www.statskingdom.com/40_confidence_interval.html
A5: Sample Data:
A6: % Diff | B6: % Diff
A7: MAR | B7: Sharpe
A8: Data for online tools
A9: 1.137931 | B9: 0.26388889
A10: 0.33333333 | B10: 0.17105263
A11: 0.42105263 | B11: 0.08
A12: -0.16176471 | B12: 0.050505051
A13: 0.4516129 | B13: 0.22857143
A14: 0.60714286 | B14: 0.33333333
A15: 0.7826087 | B15: 0.39655172
A16: 1 | B16: 0.1884058
A17: 0.095238095 | B17: -0.036144578
A18: 0.81818182 | B18: 0.34146341
A19: 0.625 | B19: 0.20833333
A20: 0.6875 | B20: 0.075
... A41: 0.51428571 | B41: 0.17721519

Sheet 6.2 Conf. Intv. - Excel
A1: Sample Data | E1: >> The below are the Results we are really after!! | I1: Confidence Interval Calculation:
B2: MAR | C2: Sharpe | F2: =B2 -> MAR | G2: =C2 -> Sharpe | I2: Formula to be used when population Stand. Dev is unknown. Popoulation SD will be replaced by "s" sample SD and we use t-stat instead of z-stat
B3: % Diff | C3: % Diff | E3: Confidence Interval Calculation: | F3: =B3 -> % Diff | G3: =C3 -> % Diff
A4: Random Portfolio 1 | B4: 1.137931 | C4: 0.26388889 | E4: Confidence: | F4: 0.95 | G4: =F4 -> 0.95
A5: Random Portfolio 2 | B5: 0.33333333 | C5: 0.17105263 | E5: x_ bar (Sample Mean): | F5: =B38 -> 0.41501835 | G5: =C38 -> 0.14353934
A6: Random Portfolio 3 | B6: 0.42105263 | C6: 0.08 | E6: t_alpha/2: | F6: =_xlfn.T.INV((1-F4)/2, F8-1) -> -2.0369333 | G6: =_xlfn.T.INV((1-G4)/2, G8-1) -> -2.0369333
A7: Random Portfolio 4 | B7: -0.16176471 | C7: 0.050505051 | E7: s (Sample SD) | F7: =B39 -> 0.3046368 | G7: =C39 -> 0.11227475
A8: Random Portfolio 5 | B8: 0.4516129 | C8: 0.22857143 | E8: n (Sample Size) | F8: =COUNT(B4:B36) -> 33 | G8: =F8 -> 33
A9: Random Portfolio 6 | B9: 0.60714286 | C9: 0.33333333 | E9: Margin of Error | F9: =ABS(F6)*F7/SQRT(F8) -> 0.10801951 | G9: =ABS(G6)*G7/SQRT(G8) -> 0.039810895
A10: Random Portfolio 7 | B10: 0.7826087 | C10: 0.39655172 | E10: Margin of Error (alternative calc.) | F10: =_xlfn.CONFIDENCE.T(1-F4,F7,F8) -> 0.10801951 | G10: =_xlfn.CONFIDENCE.T(1-G4,G7,G8) -> 0.039810895
A11: Random Portfolio 8 | B11: 1 | C11: 0.1884058 | E11: Confidence Intv:
A12: Random Portfolio 9 | B12: 0.095238095 | C12: -0.036144578 | E12: Lower: | F12: =F5-F9 -> 0.30699883 | G12: =G5-G9 -> 0.10372844
A13: Random Portfolio 10 | B13: 0.81818182 | C13: 0.34146341 | E13: Upper: | F13: =F5+F9 -> 0.52303786 | G13: =G5+G9 -> 0.18335023
A14: Random Portfolio 11 | B14: 0.625 | C14: 0.20833333
A15: Random Portfolio 12 | B15: 0.6875 | C15: 0.075 | E15: >> Conclusions:
A16: Random Portfolio 13 | B16: 0.42424242 | C16: 0.17567568 | E16: =">> With "&TEXT(F4,"#%") &" confidence, the improvement in "&F2&" is between "&TEXT(F12,"#.#%")&" and "&TEXT(F13,"#.#%") -> >> With 95% confidence, the improvement in MAR is between 30.7% and 52.3%
A17: Random Portfolio 14 | B17: 0.54545455 | C17: 0.11267606 | E17: =">> With "&TEXT(G4,"#%") &" confidence, the improvement in "&G2&" is between "&TEXT(G12,"#.#%")&" and "&TEXT(G13,"#.#%") -> >> With 95% confidence, the improvement in Sharpe is between 10.4% and 18.3%
A18: Random Portfolio 15 | B18: 0.42857143 | C18: 0.075757576 | E18: OR
A19: Random Portfolio 16 | B19: 0.36363636 | C19: 0.13432836 | E19: =">> With "&TEXT($F$4+(1-$F$4)/2,"#.#%") &" confidence, the improvement in "& F2 &" is greater than "&TEXT(F12,"#.#%") -> >> With 97.5% confidence, the improvement in MAR is greater than 30.7% | I19: Example of Sample Size Calculation:
A20: Random Portfolio 17 | B20: 0.4516129 | C20: 0.11428571 | E20: =">> With "&TEXT($F$4+(1-$F$4)/2,"#.#%") &" confidence, the improvement in "& G2 &" is greater than "&TEXT(G12,"#.#%") -> >> With 97.5% confidence, the improvement in Sharpe is greater than 10.4% | I20: Example for est. SD = 0.9 and margin of error of 0.3 with 95% conf.:
A21: Random Portfolio 18 | B21: 0.51428571 | C21: 0.10810811
A22: Random Portfolio 19 | B22: 0.097560976 | C22: 0.1125 | E22: Sample Size to reduce the margin of error:
A23: Random Portfolio 20 | B23: 0.033333333 | C23: -0.10958904
A24: Random Portfolio 21 | B24: 0.75757576 | C24: 0.1025641 | E24: Sample Size Calculation:
A25: Random Portfolio 22 | B25: -0.097560976 | C25: -0.0375 | E25: Confidence: | F25: =F4 -> 0.95 | G25: =G4 -> 0.95
A26: Random Portfolio 23 | B26: 0.29032258 | C26: 0.074626866 | E26: Reduce margin of Error by: | F26: 0.25 | G26: 0.25
A27: Random Portfolio 24 | B27: 0.25641026 | C27: 0.10810811 | E27: Reduced Margin of Error: | F27: =(1-F26)*F9 -> 0.081014634 | G27: =(1-G26)*G9 -> 0.029858171
A28: Random Portfolio 25 | B28: 0.13953488 | C28: 0.14285714 | E28: Population SD ~ Sample SD: | F28: =B39 -> 0.3046368 | G28: =C39 -> 0.11227475
A29: Random Portfolio 26 | B29: 0.51612903 | C29: 0.15584416 | E29: NORM.INV | F29: =ABS(_xlfn.NORM.INV((1-F25)/2,0,1)) -> 1.959964 | G29: =ABS(_xlfn.NORM.INV((1-G25)/2,0,1)) -> 1.959964
A30: Random Portfolio 27 | B30: 0.068965517 | C30: 0.17391304 | E30: ="Sqrt(n):" -> Sqrt(n): | F30: =F29*F28/F27 -> 7.3699914 | G30: =G29*G28/G27 -> 7.3699914
A31: Random Portfolio 28 | B31: 0.5 | C31: 0.12328767 | E31: Required n (Sample Size): | F31: =F30^2 -> 54.316773 | G31: =G30^2 -> 54.316773
A32: Random Portfolio 29 | B32: -0.048780488 | C32: -0.011111111
A33: Random Portfolio 30 | B33: 0.44444444 | C33: 0.1375
A34: Random Portfolio 31 | B34: 0.52631579 | C34: 0.22580645
A35: Random Portfolio 32 | B35: 0.17142857 | C35: 0.33898305
A36: Random Portfolio 33 | B36: 0.51428571 | C36: 0.17721519
A38: Sample Mean ("x_bar"): | B38: =AVERAGE(B4:B36) -> 0.41501835 | C38: =AVERAGE(C4:C36) -> 0.14353934
A39: Sample St. Dev. ("s"): | B39: =_xlfn.STDEV.S(B4:B36) -> 0.3046368 | C39: =_xlfn.STDEV.S(C4:C36) -> 0.11227475

Sheet 7. Bootstrapping
A1: MAR | B1: Sharpe | D1: Bootstrapped - Confidence Interval | G1: MAR: | H1: Sample 1 | I1: Sample 2 | J1: Sample 3 | K1: Sample 4 | L1: Sample 5 | M1: Sample 6 | N1: Sample 7 | O1: Sample 8 | P1: Sample 9 | Q1: Sample 10 | R1: Sample 11 | S1: Sample 12 | T1: Sample 13 | U1: Sample 14 | V1: Sample 15 | W1: Sample 16 | X1: Sample 17 | Y1: Sample 18 | Z1: Sample 19 | AA1: Sample 20 | AB1: Sample 21 | AC1: Sample 22 | AD1: Sample 23 | AE1: Sample 24 | AF1: Sample 25 | AG1: Sample 26 | AH1: Sample 27 | AI1: Sample 28 | AJ1: Sample 29 | AK1: Sample 30 | AL1: Sample 31 | AM1: Sample 32 | AN1: Sample 33
A2: % Diff | B2: % Diff | H2: % Diff | I2: % Diff | J2: % Diff | K2: % Diff | L2: % Diff | M2: % Diff | N2: % Diff | O2: % Diff | P2: % Diff | Q2: % Diff | R2: % Diff | S2: % Diff | T2: % Diff | U2: % Diff | V2: % Diff | W2: % Diff | X2: % Diff | Y2: % Diff | Z2: % Diff | AA2: % Diff | AB2: % Diff | AC2: % Diff | AD2: % Diff | AE2: % Diff | AF2: % Diff | AG2: % Diff | AH2: % Diff | AI2: % Diff | AJ2: % Diff | AK2: % Diff | AL2: % Diff | AM2: % Diff | AN2: % Diff
A3: 1.137931 | B3: 0.26388889 | E3: Diff in MAR | F3: Diff in % | H3: {=INDEX($A$3:$A$35,ROWS($A$3:$A$35)*RAND()+1)} -> 0.60714286 | I3: {=INDEX($A$3:$A$35,ROWS($A$3:$A$35)*RAND()+1)} -> 0.13953488 | J3: {=INDEX($A$3:$A$35,ROWS($A$3:$A$35)*RAND()+1)} -> 0.25641026 | K3: {=INDEX($A$3:$A$35,ROWS($A$3:$A$35)*RAND()+1)} -> 0.7826087 | L3: {=INDEX($A$3:$A$35,ROWS($A$3:$A$35)*RAND()+1)} -> 0.4516129 | M3: {=INDEX($A$3:$A$35,ROWS($A$3:$A$35)*RAND()+1)} -> 0.33333333 | N3: {=INDEX($A$3:$A$35,ROWS($A$3:$A$35)*RAND()+1)} -> 0.44444444 | O3: {=INDEX($A$3:$A$35,ROWS($A$3:$A$35)*RAND()+1)} -> 0.60714286 | ... AN3: {=INDEX($A$3:$A$35,ROWS($A$3:$A$35)*RAND()+1)} -> 0.625
A4: 0.33333333 | B4: 0.17105263 | D4: Confidence Intv | E4: 0.95 | F4: 0.95 | H4: {=INDEX($A$3:$A$35,ROWS($A$3:$A$35)*RAND()+1)} -> 1.137931 | I4: {=INDEX($A$3:$A$35,ROWS($A$3:$A$35)*RAND()+1)} -> 0.13953488 | J4: {=INDEX($A$3:$A$35,ROWS($A$3:$A$35)*RAND()+1)} -> -0.16176471 | K4: {=INDEX($A$3:$A$35,ROWS($A$3:$A$35)*RAND()+1)} -> 0.75757576 | L4: {=INDEX($A$3:$A$35,ROWS($A$3:$A$35)*RAND()+1)} -> 0.25641026 | M4: {=INDEX($A$3:$A$35,ROWS($A$3:$A$35)*RAND()+1)} -> 0.5 | N4: {=INDEX($A$3:$A$35,ROWS($A$3:$A$35)*RAND()+1)} -> 0.51428571 | O4: {=INDEX($A$3:$A$35,ROWS($A$3:$A$35)*RAND()+1)} -> 0.13953488 | ... AN4: {=INDEX($A$3:$A$35,ROWS($A$3:$A$35)*RAND()+1)} -> 0.44444444
A5: 0.42105263 | B5: 0.08 | D5: Means | E5: =COUNT(H18:AN18) -> 33 | F5: =COUNT(H38:BM38) -> 33 | H5: {=INDEX($A$3:$A$35,ROWS($A$3:$A$35)*RAND()+1)} -> 0.75757576 | I5: {=INDEX($A$3:$A$35,ROWS($A$3:$A$35)*RAND()+1)} -> 0.13953488 | J5: {=INDEX($A$3:$A$35,ROWS($A$3:$A$35)*RAND()+1)} -> 0.51428571 | K5: {=INDEX($A$3:$A$35,ROWS($A$3:$A$35)*RAND()+1)} -> 0.625 | L5: {=INDEX($A$3:$A$35,ROWS($A$3:$A$35)*RAND()+1)} -> 0.75757576 | M5: {=INDEX($A$3:$A$35,ROWS($A$3:$A$35)*RAND()+1)} -> 0.51428571 | N5: {=INDEX($A$3:$A$35,ROWS($A$3:$A$35)*RAND()+1)} -> 0.42857143 | O5: {=INDEX($A$3:$A$35,ROWS($A$3:$A$35)*RAND()+1)} -> 0.51428571 | ... AN5: {=INDEX($A$3:$A$35,ROWS($A$3:$A$35)*RAND()+1)} -> 0.4516129
A6: -0.16176471 | B6: 0.050505051 | D6: Means of means | E6: =AVERAGE(H18:AN18) -> 0.41648169 | F6: =AVERAGE(H38:AN38) -> 0.14745717 | H6: {=INDEX($A$3:$A$35,ROWS($A$3:$A$35)*RAND()+1)} -> -0.16176471 | I6: {=INDEX($A$3:$A$35,ROWS($A$3:$A$35)*RAND()+1)} -> -0.097560976 | J6: {=INDEX($A$3:$A$35,ROWS($A$3:$A$35)*RAND()+1)} -> 0.51428571 | K6: {=INDEX($A$3:$A$35,ROWS($A$3:$A$35)*RAND()+1)} -> 0.097560976 | L6: {=INDEX($A$3:$A$35,ROWS($A$3:$A$35)*RAND()+1)} -> 1 | M6: {=INDEX($A$3:$A$35,ROWS($A$3:$A$35)*RAND()+1)} -> 0.54545455 | N6: {=INDEX($A$3:$A$35,ROWS($A$3:$A$35)*RAND()+1)} -> 0.51428571 | O6: {=INDEX($A$3:$A$35,ROWS($A$3:$A$35)*RAND()+1)} -> 1 | ... AN6: {=INDEX($A$3:$A$35,ROWS($A$3:$A$35)*RAND()+1)} -> 0.4516129
A7: 0.4516129 | B7: 0.22857143 | D7: SD of means | E7: =_xlfn.STDEV.S(H18:AN18) -> 0.075658329 | F7: =_xlfn.STDEV.S(H38:AN38) -> 0.03633533 | H7: {=INDEX($A$3:$A$35,ROWS($A$3:$A$35)*RAND()+1)} -> 0.4516129 | I7: {=INDEX($A$3:$A$35,ROWS($A$3:$A$35)*RAND()+1)} -> 0.13953488 | J7: {=INDEX($A$3:$A$35,ROWS($A$3:$A$35)*RAND()+1)} -> -0.048780488 | K7: {=INDEX($A$3:$A$35,ROWS($A$3:$A$35)*RAND()+1)} -> -0.048780488 | L7: {=INDEX($A$3:$A$35,ROWS($A$3:$A$35)*RAND()+1)} -> 0.51428571 | M7: {=INDEX($A$3:$A$35,ROWS($A$3:$A$35)*RAND()+1)} -> 0.033333333 | N7: {=INDEX($A$3:$A$35,ROWS($A$3:$A$35)*RAND()+1)} -> 0.25641026 | O7: {=INDEX($A$3:$A$35,ROWS($A$3:$A$35)*RAND()+1)} -> 0.25641026 | ... AN7: {=INDEX($A$3:$A$35,ROWS($A$3:$A$35)*RAND()+1)} -> 0.42424242
A8: 0.60714286 | B8: 0.33333333 | D8: St. Error | E8: =E7/SQRT(E5-1) -> 0.013374629 | F8: =F7/SQRT(F5-1) -> 0.0064232395 | H8: {=INDEX($A$3:$A$35,ROWS($A$3:$A$35)*RAND()+1)} -> -0.097560976 | I8: {=INDEX($A$3:$A$35,ROWS($A$3:$A$35)*RAND()+1)} -> 0.17142857 | J8: {=INDEX($A$3:$A$35,ROWS($A$3:$A$35)*RAND()+1)} -> 0.7826087 | K8: {=INDEX($A$3:$A$35,ROWS($A$3:$A$35)*RAND()+1)} -> 0.7826087 | L8: {=INDEX($A$3:$A$35,ROWS($A$3:$A$35)*RAND()+1)} -> -0.048780488 | M8: {=INDEX($A$3:$A$35,ROWS($A$3:$A$35)*RAND()+1)} -> 0.51612903 | N8: {=INDEX($A$3:$A$35,ROWS($A$3:$A$35)*RAND()+1)} -> 0.6875 | O8: {=INDEX($A$3:$A$35,ROWS($A$3:$A$35)*RAND()+1)} -> 0.75757576 | ... AN8: {=INDEX($A$3:$A$35,ROWS($A$3:$A$35)*RAND()+1)} -> 0.033333333
A9: 0.7826087 | B9: 0.39655172 | D9: t_alpha/2 | E9: =_xlfn.T.INV.2T(1-E4,E5-1) -> 2.0369333 | F9: 2.0369333 | H9: {=INDEX($A$3:$A$35,ROWS($A$3:$A$35)*RAND()+1)} -> 0.29032258 | I9: {=INDEX($A$3:$A$35,ROWS($A$3:$A$35)*RAND()+1)} -> 0.42857143 | J9: {=INDEX($A$3:$A$35,ROWS($A$3:$A$35)*RAND()+1)} -> 0.81818182 | K9: {=INDEX($A$3:$A$35,ROWS($A$3:$A$35)*RAND()+1)} -> 0.17142857 | L9: {=INDEX($A$3:$A$35,ROWS($A$3:$A$35)*RAND()+1)} -> 0.095238095 | M9: {=INDEX($A$3:$A$35,ROWS($A$3:$A$35)*RAND()+1)} -> 0.6875 | N9: {=INDEX($A$3:$A$35,ROWS($A$3:$A$35)*RAND()+1)} -> 0.81818182 | O9: {=INDEX($A$3:$A$35,ROWS($A$3:$A$35)*RAND()+1)} -> -0.16176471 | ... AN9: {=INDEX($A$3:$A$35,ROWS($A$3:$A$35)*RAND()+1)} -> 0.54545455
A10: 1 | B10: 0.1884058 | D10: Margin of Error | E10: =E7*E9 -> 0.15411097 | F10: =F7*F9 -> 0.074012644 | H10: {=INDEX($A$3:$A$35,ROWS($A$3:$A$35)*RAND()+1)} -> 0.13953488 | I10: {=INDEX($A$3:$A$35,ROWS($A$3:$A$35)*RAND()+1)} -> 0.42424242 | J10: {=INDEX($A$3:$A$35,ROWS($A$3:$A$35)*RAND()+1)} -> 0.095238095 | K10: {=INDEX($A$3:$A$35,ROWS($A$3:$A$35)*RAND()+1)} -> 0.13953488 | L10: {=INDEX($A$3:$A$35,ROWS($A$3:$A$35)*RAND()+1)} -> 0.7826087 | M10: {=INDEX($A$3:$A$35,ROWS($A$3:$A$35)*RAND()+1)} -> 0.4516129 | N10: {=INDEX($A$3:$A$35,ROWS($A$3:$A$35)*RAND()+1)} -> 0.29032258 | O10: {=INDEX($A$3:$A$35,ROWS($A$3:$A$35)*RAND()+1)} -> 0.097560976 | ... AN10: {=INDEX($A$3:$A$35,ROWS($A$3:$A$35)*RAND()+1)} -> 0.7826087
A11: 0.095238095 | B11: -0.036144578 | D11: Conf. Intv.: | H11: {=INDEX($A$3:$A$35,ROWS($A$3:$A$35)*RAND()+1)} -> 0.033333333 | I11: {=INDEX($A$3:$A$35,ROWS($A$3:$A$35)*RAND()+1)} -> 0.44444444 | J11: {=INDEX($A$3:$A$35,ROWS($A$3:$A$35)*RAND()+1)} -> 0.51428571 | K11: {=INDEX($A$3:$A$35,ROWS($A$3:$A$35)*RAND()+1)} -> 1 | L11: {=INDEX($A$3:$A$35,ROWS($A$3:$A$35)*RAND()+1)} -> 1.137931 | M11: {=INDEX($A$3:$A$35,ROWS($A$3:$A$35)*RAND()+1)} -> 0.51428571 | N11: {=INDEX($A$3:$A$35,ROWS($A$3:$A$35)*RAND()+1)} -> 0.29032258 | O11: {=INDEX($A$3:$A$35,ROWS($A$3:$A$35)*RAND()+1)} -> 0.4516129 | ... AN11: {=INDEX($A$3:$A$35,ROWS($A$3:$A$35)*RAND()+1)} -> 0.095238095
A12: 0.81818182 | B12: 0.34146341 | D12: Lower Bound | E12: =E6-E10 -> 0.26237072 | F12: =F6-F10 -> 0.073444523 | H12: {=INDEX($A$3:$A$35,ROWS($A$3:$A$35)*RAND()+1)} -> -0.16176471 | I12: {=INDEX($A$3:$A$35,ROWS($A$3:$A$35)*RAND()+1)} -> 0.25641026 | J12: {=INDEX($A$3:$A$35,ROWS($A$3:$A$35)*RAND()+1)} -> 0.51612903 | K12: {=INDEX($A$3:$A$35,ROWS($A$3:$A$35)*RAND()+1)} -> 0.095238095 | L12: {=INDEX($A$3:$A$35,ROWS($A$3:$A$35)*RAND()+1)} -> 0.068965517 | M12: {=INDEX($A$3:$A$35,ROWS($A$3:$A$35)*RAND()+1)} -> 0.52631579 | N12: {=INDEX($A$3:$A$35,ROWS($A$3:$A$35)*RAND()+1)} -> 0.4516129 | O12: {=INDEX($A$3:$A$35,ROWS($A$3:$A$35)*RAND()+1)} -> 0.7826087 | ... AN12: {=INDEX($A$3:$A$35,ROWS($A$3:$A$35)*RAND()+1)} -> 0.52631579
A13: 0.625 | B13: 0.20833333 | D13: Upper Bound | E13: =E6+E10 -> 0.57059266 | F13: =F6+F10 -> 0.22146981 | H13: {=INDEX($A$3:$A$35,ROWS($A$3:$A$35)*RAND()+1)} -> 0.33333333 | I13: {=INDEX($A$3:$A$35,ROWS($A$3:$A$35)*RAND()+1)} -> 0.25641026 | J13: {=INDEX($A$3:$A$35,ROWS($A$3:$A$35)*RAND()+1)} -> 0.75757576 | K13: {=INDEX($A$3:$A$35,ROWS($A$3:$A$35)*RAND()+1)} -> 0.4516129 | L13: {=INDEX($A$3:$A$35,ROWS($A$3:$A$35)*RAND()+1)} -> 0.36363636 | M13: {=INDEX($A$3:$A$35,ROWS($A$3:$A$35)*RAND()+1)} -> 0.097560976 | N13: {=INDEX($A$3:$A$35,ROWS($A$3:$A$35)*RAND()+1)} -> 0.6875 | O13: {=INDEX($A$3:$A$35,ROWS($A$3:$A$35)*RAND()+1)} -> 0.097560976 | ... AN13: {=INDEX($A$3:$A$35,ROWS($A$3:$A$35)*RAND()+1)} -> -0.16176471
A14: 0.6875 | B14: 0.075 | H14: {=INDEX($A$3:$A$35,ROWS($A$3:$A$35)*RAND()+1)} -> 0.51428571 | I14: {=INDEX($A$3:$A$35,ROWS($A$3:$A$35)*RAND()+1)} -> 0.33333333 | J14: {=INDEX($A$3:$A$35,ROWS($A$3:$A$35)*RAND()+1)} -> 0.4516129 | K14: {=INDEX($A$3:$A$35,ROWS($A$3:$A$35)*RAND()+1)} -> -0.16176471 | L14: {=INDEX($A$3:$A$35,ROWS($A$3:$A$35)*RAND()+1)} -> 0.51428571 | M14: {=INDEX($A$3:$A$35,ROWS($A$3:$A$35)*RAND()+1)} -> 0.52631579 | N14: {=INDEX($A$3:$A$35,ROWS($A$3:$A$35)*RAND()+1)} -> 0.42105263 | O14: {=INDEX($A$3:$A$35,ROWS($A$3:$A$35)*RAND()+1)} -> 0.5 | ... AN14: {=INDEX($A$3:$A$35,ROWS($A$3:$A$35)*RAND()+1)} -> -0.16176471
A15: 0.42424242 | B15: 0.17567568 | D15: F9 to update | H15: {=INDEX($A$3:$A$35,ROWS($A$3:$A$35)*RAND()+1)} -> -0.16176471 | I15: {=INDEX($A$3:$A$35,ROWS($A$3:$A$35)*RAND()+1)} -> 0.36363636 | J15: {=INDEX($A$3:$A$35,ROWS($A$3:$A$35)*RAND()+1)} -> 0.625 | K15: {=INDEX($A$3:$A$35,ROWS($A$3:$A$35)*RAND()+1)} -> 0.625 | L15: {=INDEX($A$3:$A$35,ROWS($A$3:$A$35)*RAND()+1)} -> 0.068965517 | M15: {=INDEX($A$3:$A$35,ROWS($A$3:$A$35)*RAND()+1)} -> 0.097560976 | N15: {=INDEX($A$3:$A$35,ROWS($A$3:$A$35)*RAND()+1)} -> 0.81818182 | O15: {=INDEX($A$3:$A$35,ROWS($A$3:$A$35)*RAND()+1)} -> 0.17142857 | ... AN15: {=INDEX($A$3:$A$35,ROWS($A$3:$A$35)*RAND()+1)} -> 0.52631579
A16: 0.54545455 | B16: 0.11267606 | H16: {=INDEX($A$3:$A$35,ROWS($A$3:$A$35)*RAND()+1)} -> 0.81818182 | I16: {=INDEX($A$3:$A$35,ROWS($A$3:$A$35)*RAND()+1)} -> 1.137931 | J16: {=INDEX($A$3:$A$35,ROWS($A$3:$A$35)*RAND()+1)} -> 0.25641026 | K16: {=INDEX($A$3:$A$35,ROWS($A$3:$A$35)*RAND()+1)} -> 0.36363636 | L16: {=INDEX($A$3:$A$35,ROWS($A$3:$A$35)*RAND()+1)} -> 0.033333333 | M16: {=INDEX($A$3:$A$35,ROWS($A$3:$A$35)*RAND()+1)} -> 0.5 | N16: {=INDEX($A$3:$A$35,ROWS($A$3:$A$35)*RAND()+1)} -> -0.097560976 | O16: {=INDEX($A$3:$A$35,ROWS($A$3:$A$35)*RAND()+1)} -> 0.33333333 | ... AN16: {=INDEX($A$3:$A$35,ROWS($A$3:$A$35)*RAND()+1)} -> 0.13953488
A17: 0.42857143 | B17: 0.075757576 | D17: Previous calculations assuming Normality: | H17: {=INDEX($A$3:$A$35,ROWS($A$3:$A$35)*RAND()+1)} -> 0.13953488 | I17: {=INDEX($A$3:$A$35,ROWS($A$3:$A$35)*RAND()+1)} -> 0.4516129 | J17: {=INDEX($A$3:$A$35,ROWS($A$3:$A$35)*RAND()+1)} -> -0.048780488 | K17: {=INDEX($A$3:$A$35,ROWS($A$3:$A$35)*RAND()+1)} -> 0.33333333 | L17: {=INDEX($A$3:$A$35,ROWS($A$3:$A$35)*RAND()+1)} -> 0.51612903 | M17: {=INDEX($A$3:$A$35,ROWS($A$3:$A$35)*RAND()+1)} -> 0.33333333 | N17: {=INDEX($A$3:$A$35,ROWS($A$3:$A$35)*RAND()+1)} -> -0.048780488 | O17: {=INDEX($A$3:$A$35,ROWS($A$3:$A$35)*RAND()+1)} -> 0.068965517 | ... AN17: {=INDEX($A$3:$A$35,ROWS($A$3:$A$35)*RAND()+1)} -> 0.42857143
A18: 0.36363636 | B18: 0.13432836 | D18: (Margin of Error will be lower when assuming normality) | H18: =AVERAGE(H3:H17) -> 0.30932893 | I18: =AVERAGE(I3:I17) -> 0.31523997 | J18: =AVERAGE(J3:J17) -> 0.38951322 | K18: =AVERAGE(K3:K17) -> 0.40097287 | L18: =AVERAGE(L3:L17) -> 0.4341465 | M18: =AVERAGE(M3:M17) -> 0.41180143 | N18: =AVERAGE(N3:N17) -> 0.43175536 | O18: =AVERAGE(O3:O17) -> 0.37441705 | ... AN18: =AVERAGE(AN3:AN17) -> 0.34338372
A19: 0.4516129 | B19: 0.11428571 | D19: Margin of Error | E19: ='6.2 Conf. Intv. - Excel'!F10 -> 0.10801951 | F19: ='6.2 Conf. Intv. - Excel'!G10 -> 0.039810895
A20: 0.51428571 | B20: 0.10810811 | D20: Confidence Intv:
A21: 0.097560976 | B21: 0.1125 | D21: Lower: | E21: ='6.2 Conf. Intv. - Excel'!F12 -> 0.30699883 | F21: ='6.2 Conf. Intv. - Excel'!G12 -> 0.10372844 | G21: Sharpe:
A22: 0.033333333 | B22: -0.10958904 | D22: Upper: | E22: ='6.2 Conf. Intv. - Excel'!F13 -> 0.52303786 | F22: ='6.2 Conf. Intv. - Excel'!G13 -> 0.18335023 | H22: % Diff | I22: % Diff | J22: % Diff | K22: % Diff | L22: % Diff | M22: % Diff | N22: % Diff | O22: % Diff | P22: % Diff | Q22: % Diff | R22: % Diff | S22: % Diff | T22: % Diff | U22: % Diff | V22: % Diff | W22: % Diff | X22: % Diff | Y22: % Diff | Z22: % Diff | AA22: % Diff | AB22: % Diff | AC22: % Diff | AD22: % Diff | AE22: % Diff | AF22: % Diff | AG22: % Diff | AH22: % Diff | AI22: % Diff | AJ22: % Diff | AK22: % Diff | AL22: % Diff | AM22: % Diff | AN22: % Diff
A23: 0.75757576 | B23: 0.1025641 | H23: {=INDEX($B$3:$B$35,ROWS($B$3:$B$35)*RAND()+1)} -> -0.0375 | I23: {=INDEX($B$3:$B$35,ROWS($B$3:$B$35)*RAND()+1)} -> 0.074626866 | J23: {=INDEX($B$3:$B$35,ROWS($B$3:$B$35)*RAND()+1)} -> 0.12328767 | K23: {=INDEX($B$3:$B$35,ROWS($B$3:$B$35)*RAND()+1)} -> 0.14285714 | L23: {=INDEX($B$3:$B$35,ROWS($B$3:$B$35)*RAND()+1)} -> 0.17567568 | M23: {=INDEX($B$3:$B$35,ROWS($B$3:$B$35)*RAND()+1)} -> 0.26388889 | N23: {=INDEX($B$3:$B$35,ROWS($B$3:$B$35)*RAND()+1)} -> 0.33333333 | O23: {=INDEX($B$3:$B$35,ROWS($B$3:$B$35)*RAND()+1)} -> 0.17567568 | ... AN23: {=INDEX($B$3:$B$35,ROWS($B$3:$B$35)*RAND()+1)} -> 0.17721519
A24: -0.097560976 | B24: -0.0375 | H24: {=INDEX($B$3:$B$35,ROWS($B$3:$B$35)*RAND()+1)} -> 0.11428571 | I24: {=INDEX($B$3:$B$35,ROWS($B$3:$B$35)*RAND()+1)} -> 0.17567568 | J24: {=INDEX($B$3:$B$35,ROWS($B$3:$B$35)*RAND()+1)} -> 0.12328767 | K24: {=INDEX($B$3:$B$35,ROWS($B$3:$B$35)*RAND()+1)} -> 0.13432836 | L24: {=INDEX($B$3:$B$35,ROWS($B$3:$B$35)*RAND()+1)} -> 0.11428571 | M24: {=INDEX($B$3:$B$35,ROWS($B$3:$B$35)*RAND()+1)} -> -0.0375 | N24: {=INDEX($B$3:$B$35,ROWS($B$3:$B$35)*RAND()+1)} -> 0.1125 | O24: {=INDEX($B$3:$B$35,ROWS($B$3:$B$35)*RAND()+1)} -> 0.17391304 | ... AN24: {=INDEX($B$3:$B$35,ROWS($B$3:$B$35)*RAND()+1)} -> 0.13432836
A25: 0.29032258 | B25: 0.074626866 | H25: {=INDEX($B$3:$B$35,ROWS($B$3:$B$35)*RAND()+1)} -> 0.11267606 | I25: {=INDEX($B$3:$B$35,ROWS($B$3:$B$35)*RAND()+1)} -> 0.050505051 | J25: {=INDEX($B$3:$B$35,ROWS($B$3:$B$35)*RAND()+1)} -> 0.10810811 | K25: {=INDEX($B$3:$B$35,ROWS($B$3:$B$35)*RAND()+1)} -> 0.20833333 | L25: {=INDEX($B$3:$B$35,ROWS($B$3:$B$35)*RAND()+1)} -> 0.11428571 | M25: {=INDEX($B$3:$B$35,ROWS($B$3:$B$35)*RAND()+1)} -> 0.17391304 | N25: {=INDEX($B$3:$B$35,ROWS($B$3:$B$35)*RAND()+1)} -> 0.12328767 | O25: {=INDEX($B$3:$B$35,ROWS($B$3:$B$35)*RAND()+1)} -> 0.11267606 | ... AN25: {=INDEX($B$3:$B$35,ROWS($B$3:$B$35)*RAND()+1)} -> 0.074626866
A26: 0.25641026 | B26: 0.10810811 | H26: {=INDEX($B$3:$B$35,ROWS($B$3:$B$35)*RAND()+1)} -> 0.12328767 | I26: {=INDEX($B$3:$B$35,ROWS($B$3:$B$35)*RAND()+1)} -> 0.10810811 | J26: {=INDEX($B$3:$B$35,ROWS($B$3:$B$35)*RAND()+1)} -> 0.17721519 | K26: {=INDEX($B$3:$B$35,ROWS($B$3:$B$35)*RAND()+1)} -> 0.1375 | L26: {=INDEX($B$3:$B$35,ROWS($B$3:$B$35)*RAND()+1)} -> 0.17567568 | M26: {=INDEX($B$3:$B$35,ROWS($B$3:$B$35)*RAND()+1)} -> 0.15584416 | N26: {=INDEX($B$3:$B$35,ROWS($B$3:$B$35)*RAND()+1)} -> 0.39655172 | O26: {=INDEX($B$3:$B$35,ROWS($B$3:$B$35)*RAND()+1)} -> -0.036144578 | ... AN26: {=INDEX($B$3:$B$35,ROWS($B$3:$B$35)*RAND()+1)} -> 0.17105263
A27: 0.13953488 | B27: 0.14285714 | H27: {=INDEX($B$3:$B$35,ROWS($B$3:$B$35)*RAND()+1)} -> 0.1884058 | I27: {=INDEX($B$3:$B$35,ROWS($B$3:$B$35)*RAND()+1)} -> 0.1375 | J27: {=INDEX($B$3:$B$35,ROWS($B$3:$B$35)*RAND()+1)} -> 0.33898305 | K27: {=INDEX($B$3:$B$35,ROWS($B$3:$B$35)*RAND()+1)} -> 0.1375 | L27: {=INDEX($B$3:$B$35,ROWS($B$3:$B$35)*RAND()+1)} -> 0.34146341 | M27: {=INDEX($B$3:$B$35,ROWS($B$3:$B$35)*RAND()+1)} -> 0.15584416 | N27: {=INDEX($B$3:$B$35,ROWS($B$3:$B$35)*RAND()+1)} -> 0.1375 | O27: {=INDEX($B$3:$B$35,ROWS($B$3:$B$35)*RAND()+1)} -> 0.075 | ... AN27: {=INDEX($B$3:$B$35,ROWS($B$3:$B$35)*RAND()+1)} -> -0.036144578
A28: 0.51612903 | B28: 0.15584416 | H28: {=INDEX($B$3:$B$35,ROWS($B$3:$B$35)*RAND()+1)} -> 0.34146341 | I28: {=INDEX($B$3:$B$35,ROWS($B$3:$B$35)*RAND()+1)} -> 0.13432836 | J28: {=INDEX($B$3:$B$35,ROWS($B$3:$B$35)*RAND()+1)} -> 0.13432836 | K28: {=INDEX($B$3:$B$35,ROWS($B$3:$B$35)*RAND()+1)} -> 0.10810811 | L28: {=INDEX($B$3:$B$35,ROWS($B$3:$B$35)*RAND()+1)} -> 0.13432836 | M28: {=INDEX($B$3:$B$35,ROWS($B$3:$B$35)*RAND()+1)} -> 0.14285714 | N28: {=INDEX($B$3:$B$35,ROWS($B$3:$B$35)*RAND()+1)} -> 0.33898305 | O28: {=INDEX($B$3:$B$35,ROWS($B$3:$B$35)*RAND()+1)} -> 0.22580645 | ... AN28: {=INDEX($B$3:$B$35,ROWS($B$3:$B$35)*RAND()+1)} -> 0.22857143
A29: 0.068965517 | B29: 0.17391304 | H29: {=INDEX($B$3:$B$35,ROWS($B$3:$B$35)*RAND()+1)} -> 0.22580645 | I29: {=INDEX($B$3:$B$35,ROWS($B$3:$B$35)*RAND()+1)} -> 0.20833333 | J29: {=INDEX($B$3:$B$35,ROWS($B$3:$B$35)*RAND()+1)} -> 0.1125 | K29: {=INDEX($B$3:$B$35,ROWS($B$3:$B$35)*RAND()+1)} -> 0.17391304 | L29: {=INDEX($B$3:$B$35,ROWS($B$3:$B$35)*RAND()+1)} -> -0.10958904 | M29: {=INDEX($B$3:$B$35,ROWS($B$3:$B$35)*RAND()+1)} -> 0.1025641 | N29: {=INDEX($B$3:$B$35,ROWS($B$3:$B$35)*RAND()+1)} -> 0.17721519 | O29: {=INDEX($B$3:$B$35,ROWS($B$3:$B$35)*RAND()+1)} -> 0.075757576 | ... AN29: {=INDEX($B$3:$B$35,ROWS($B$3:$B$35)*RAND()+1)} -> -0.0375
A30: 0.5 | B30: 0.12328767 | H30: {=INDEX($B$3:$B$35,ROWS($B$3:$B$35)*RAND()+1)} -> 0.33898305 | I30: {=INDEX($B$3:$B$35,ROWS($B$3:$B$35)*RAND()+1)} -> 0.08 | J30: {=INDEX($B$3:$B$35,ROWS($B$3:$B$35)*RAND()+1)} -> 0.13432836 | K30: {=INDEX($B$3:$B$35,ROWS($B$3:$B$35)*RAND()+1)} -> -0.036144578 | L30: {=INDEX($B$3:$B$35,ROWS($B$3:$B$35)*RAND()+1)} -> 0.050505051 | M30: {=INDEX($B$3:$B$35,ROWS($B$3:$B$35)*RAND()+1)} -> 0.1025641 | N30: {=INDEX($B$3:$B$35,ROWS($B$3:$B$35)*RAND()+1)} -> 0.075 | O30: {=INDEX($B$3:$B$35,ROWS($B$3:$B$35)*RAND()+1)} -> 0.10810811 | ... AN30: {=INDEX($B$3:$B$35,ROWS($B$3:$B$35)*RAND()+1)} -> 0.1375
A31: -0.048780488 | B31: -0.011111111 | H31: {=INDEX($B$3:$B$35,ROWS($B$3:$B$35)*RAND()+1)} -> 0.12328767 | I31: {=INDEX($B$3:$B$35,ROWS($B$3:$B$35)*RAND()+1)} -> 0.17721519 | J31: {=INDEX($B$3:$B$35,ROWS($B$3:$B$35)*RAND()+1)} -> 0.1884058 | K31: {=INDEX($B$3:$B$35,ROWS($B$3:$B$35)*RAND()+1)} -> 0.11428571 | L31: {=INDEX($B$3:$B$35,ROWS($B$3:$B$35)*RAND()+1)} -> 0.13432836 | M31: {=INDEX($B$3:$B$35,ROWS($B$3:$B$35)*RAND()+1)} -> 0.1025641 | N31: {=INDEX($B$3:$B$35,ROWS($B$3:$B$35)*RAND()+1)} -> 0.17105263 | O31: {=INDEX($B$3:$B$35,ROWS($B$3:$B$35)*RAND()+1)} -> 0.17567568 | ... AN31: {=INDEX($B$3:$B$35,ROWS($B$3:$B$35)*RAND()+1)} -> 0.11267606
A32: 0.44444444 | B32: 0.1375 | H32: {=INDEX($B$3:$B$35,ROWS($B$3:$B$35)*RAND()+1)} -> 0.22580645 | I32: {=INDEX($B$3:$B$35,ROWS($B$3:$B$35)*RAND()+1)} -> 0.050505051 | J32: {=INDEX($B$3:$B$35,ROWS($B$3:$B$35)*RAND()+1)} -> 0.050505051 | K32: {=INDEX($B$3:$B$35,ROWS($B$3:$B$35)*RAND()+1)} -> 0.33333333 | L32: {=INDEX($B$3:$B$35,ROWS($B$3:$B$35)*RAND()+1)} -> -0.0375 | M32: {=INDEX($B$3:$B$35,ROWS($B$3:$B$35)*RAND()+1)} -> 0.33333333 | N32: {=INDEX($B$3:$B$35,ROWS($B$3:$B$35)*RAND()+1)} -> 0.11428571 | O32: {=INDEX($B$3:$B$35,ROWS($B$3:$B$35)*RAND()+1)} -> 0.11428571 | ... AN32: {=INDEX($B$3:$B$35,ROWS($B$3:$B$35)*RAND()+1)} -> 0.13432836
A33: 0.52631579 | B33: 0.22580645 | H33: {=INDEX($B$3:$B$35,ROWS($B$3:$B$35)*RAND()+1)} -> 0.11428571 | I33: {=INDEX($B$3:$B$35,ROWS($B$3:$B$35)*RAND()+1)} -> 0.34146341 | J33: {=INDEX($B$3:$B$35,ROWS($B$3:$B$35)*RAND()+1)} -> 0.074626866 | K33: {=INDEX($B$3:$B$35,ROWS($B$3:$B$35)*RAND()+1)} -> -0.036144578 | L33: {=INDEX($B$3:$B$35,ROWS($B$3:$B$35)*RAND()+1)} -> 0.1125 | M33: {=INDEX($B$3:$B$35,ROWS($B$3:$B$35)*RAND()+1)} -> 0.34146341 | N33: {=INDEX($B$3:$B$35,ROWS($B$3:$B$35)*RAND()+1)} -> 0.20833333 | O33: {=INDEX($B$3:$B$35,ROWS($B$3:$B$35)*RAND()+1)} -> 0.22857143 | ... AN33: {=INDEX($B$3:$B$35,ROWS($B$3:$B$35)*RAND()+1)} -> -0.10958904
A34: 0.17142857 | B34: 0.33898305 | H34: {=INDEX($B$3:$B$35,ROWS($B$3:$B$35)*RAND()+1)} -> -0.036144578 | I34: {=INDEX($B$3:$B$35,ROWS($B$3:$B$35)*RAND()+1)} -> 0.11428571 | J34: {=INDEX($B$3:$B$35,ROWS($B$3:$B$35)*RAND()+1)} -> 0.15584416 | K34: {=INDEX($B$3:$B$35,ROWS($B$3:$B$35)*RAND()+1)} -> 0.075757576 | L34: {=INDEX($B$3:$B$35,ROWS($B$3:$B$35)*RAND()+1)} -> 0.10810811 | M34: {=INDEX($B$3:$B$35,ROWS($B$3:$B$35)*RAND()+1)} -> 0.075757576 | N34: {=INDEX($B$3:$B$35,ROWS($B$3:$B$35)*RAND()+1)} -> 0.11428571 | O34: {=INDEX($B$3:$B$35,ROWS($B$3:$B$35)*RAND()+1)} -> 0.10810811 | ... AN34: {=INDEX($B$3:$B$35,ROWS($B$3:$B$35)*RAND()+1)} -> 0.17567568
A35: 0.51428571 | B35: 0.17721519 | H35: {=INDEX($B$3:$B$35,ROWS($B$3:$B$35)*RAND()+1)} -> 0.33333333 | I35: {=INDEX($B$3:$B$35,ROWS($B$3:$B$35)*RAND()+1)} -> 0.15584416 | J35: {=INDEX($B$3:$B$35,ROWS($B$3:$B$35)*RAND()+1)} -> 0.17567568 | K35: {=INDEX($B$3:$B$35,ROWS($B$3:$B$35)*RAND()+1)} -> 0.17391304 | L35: {=INDEX($B$3:$B$35,ROWS($B$3:$B$35)*RAND()+1)} -> 0.22580645 | M35: {=INDEX($B$3:$B$35,ROWS($B$3:$B$35)*RAND()+1)} -> 0.17567568 | N35: {=INDEX($B$3:$B$35,ROWS($B$3:$B$35)*RAND()+1)} -> 0.26388889 | O35: {=INDEX($B$3:$B$35,ROWS($B$3:$B$35)*RAND()+1)} -> 0.17567568 | ... AN35: {=INDEX($B$3:$B$35,ROWS($B$3:$B$35)*RAND()+1)} -> 0.15584416
H36: {=INDEX($B$3:$B$35,ROWS($B$3:$B$35)*RAND()+1)} -> 0.39655172 | I36: {=INDEX($B$3:$B$35,ROWS($B$3:$B$35)*RAND()+1)} -> 0.17721519 | J36: {=INDEX($B$3:$B$35,ROWS($B$3:$B$35)*RAND()+1)} -> -0.0375 | K36: {=INDEX($B$3:$B$35,ROWS($B$3:$B$35)*RAND()+1)} -> 0.10810811 | L36: {=INDEX($B$3:$B$35,ROWS($B$3:$B$35)*RAND()+1)} -> 0.08 | M36: {=INDEX($B$3:$B$35,ROWS($B$3:$B$35)*RAND()+1)} -> 0.075 | N36: {=INDEX($B$3:$B$35,ROWS($B$3:$B$35)*RAND()+1)} -> 0.17105263 | O36: {=INDEX($B$3:$B$35,ROWS($B$3:$B$35)*RAND()+1)} -> -0.10958904 | ... AN36: {=INDEX($B$3:$B$35,ROWS($B$3:$B$35)*RAND()+1)} -> 0.17567568
A37: =AVERAGE(A3:A35) -> 0.41501835 | B37: =AVERAGE(B3:B35) -> 0.14353934 | H37: {=INDEX($B$3:$B$35,ROWS($B$3:$B$35)*RAND()+1)} -> 0.34146341 | I37: {=INDEX($B$3:$B$35,ROWS($B$3:$B$35)*RAND()+1)} -> 0.1375 | J37: {=INDEX($B$3:$B$35,ROWS($B$3:$B$35)*RAND()+1)} -> 0.075 | K37: {=INDEX($B$3:$B$35,ROWS($B$3:$B$35)*RAND()+1)} -> 0.34146341 | L37: {=INDEX($B$3:$B$35,ROWS($B$3:$B$35)*RAND()+1)} -> 0.12328767 | M37: {=INDEX($B$3:$B$35,ROWS($B$3:$B$35)*RAND()+1)} -> 0.17567568 | N37: {=INDEX($B$3:$B$35,ROWS($B$3:$B$35)*RAND()+1)} -> 0.34146341 | O37: {=INDEX($B$3:$B$35,ROWS($B$3:$B$35)*RAND()+1)} -> 0.33898305 | ... AN37: {=INDEX($B$3:$B$35,ROWS($B$3:$B$35)*RAND()+1)} -> 0.11428571
A38: =_xlfn.STDEV.S(A3:A35) -> 0.3046368 | B38: =_xlfn.STDEV.S(B3:B35) -> 0.11227475 | H38: =AVERAGE(H23:H37) -> 0.19373279 | I38: =AVERAGE(I23:I37) -> 0.14154041 | J38: =AVERAGE(J23:J37) -> 0.12897306 | K38: =AVERAGE(K23:K37) -> 0.1411408 | L38: =AVERAGE(L23:L37) -> 0.11621074 | M38: =AVERAGE(M23:M37) -> 0.15596302 | N38: =AVERAGE(N23:N37) -> 0.20524889 | O38: =AVERAGE(O23:O37) -> 0.1295002 | ... AN38: =AVERAGE(AN23:AN37) -> 0.10723643
H41: =ROWS($A$3:$A$35)*RAND()+1 -> 2.7685793

Sheet z-stat vs. t-stat
I1: If we know the Populations Standard Deviation --> Use z-Statistic
I3: If we don't know the Population SD --> use t-stat and replace σ with sample SD "s"

Sheet Example Conf. Intv.
A1: Size (sq feet)
A2: 3383 | K2: Confidence Interval when the standard deviation of the Population is not known:
A3: 1285
A4: 2337
A5: 3507
A6: 3678
A7: 3421
A8: 1395
A9: 5005
A10: 4126
A11: 4261
A12: 5455
A13: 3042
A14: 2686 | K14: alpha | L14: Probabaility outside the confidence Intv.
A15: 3510 | K15: u | L15: Unknown Population Mean
A16: 2999 | C16: We do NOT know the SD of the Population | K16: x-bar | L16: Sample mean obtain from a sample of data
A17: 3905 | C17: We can calculate the SD of the sample | K17: s | L17: Sample Standard deviation (used when we do not know the populaion standatrd deviation)
A18: 2470 | C18: We have a Sample of 100 houses
A19: 3266 | C19: We need to use the t-Statistic (and not z-stat)
A20: 3951
A21: 2645 | C21: alpha | D21: 0.05
A22: 2661 | C22: x_bar (Sample Mean) | D22: =AVERAGE(A2:A101) -> 3238.24
A23: 2816 | C23: t_alpha/2 | D23: =_xlfn.T.INV(D21/2,100-1) -> -1.984217
A24: 2253 | C24: s (SD of sample) | D24: =_xlfn.STDEV.S(A2:A101) -> 957.67048
A25: 3163 | C25: n | D25: 100
A26: 1201 | C26: Margin of Error, alt 1 | D26: =ABS(D23)*D24/SQRT(100) -> 190.0226
A27: 2675 | C27: Margin of Error, alt 2 | D27: =_xlfn.CONFIDENCE.T(D21,D24,D25) -> 190.0226
A28: 3806 | C28: Conf, lower limit | D28: =D22-D26 -> 3048.2174
A29: 3826 | C29: Conf, higher limit | D29: =D22+D26 -> 3428.2626
A30: 2924
A31: 2981 | C31: Conclusion:
A32: 4056 | C32: There is a reasonable probability (95% Confidence) that the average house size
A33: 4427 | C33: in the neighbourhood falls wihin the interval of 3048 sqft and 3428 sqft.
A34: 2400
A35: 2496
A36: 4788
A37: 3587
A38: 3612
A39: 3760
A40: 6580
A41: 5550
A42: 2504
A43: 2964
A44: 4247
A45: 2599
... A101: 3842

Sheet t-Dist.
A2: df | B2: 5
A5: -5 | B5: =_xlfn.T.DIST(A5,$B$2,FALSE) -> 0.0017574384
A6: -4.8 | B6: =_xlfn.T.DIST(A6,$B$2,FALSE) -> 0.0021523349
A7: -4.6 | B7: =_xlfn.T.DIST(A7,$B$2,FALSE) -> 0.0026505174
A8: -4.4 | B8: =_xlfn.T.DIST(A8,$B$2,FALSE) -> 0.0032825551
A9: -4.2 | B9: =_xlfn.T.DIST(A9,$B$2,FALSE) -> 0.0040889764
A10: -4 | B10: =_xlfn.T.DIST(A10,$B$2,FALSE) -> 0.0051237271
A11: -3.8 | B11: =_xlfn.T.DIST(A11,$B$2,FALSE) -> 0.0064588484
A12: -3.6 | B12: =_xlfn.T.DIST(A12,$B$2,FALSE) -> 0.0081907727
A13: -3.4 | B13: =_xlfn.T.DIST(A13,$B$2,FALSE) -> 0.010448715
A14: -3.2 | B14: =_xlfn.T.DIST(A14,$B$2,FALSE) -> 0.013405684
A15: -3 | B15: =_xlfn.T.DIST(A15,$B$2,FALSE) -> 0.017292579
A16: -2.8 | B16: =_xlfn.T.DIST(A16,$B$2,FALSE) -> 0.022415519
... A26: -0.8 | B26: =_xlfn.T.DIST(A26,$B$2,FALSE) -> 0.26448836
A27: -0.6 | B27: =_xlfn.T.DIST(A27,$B$2,FALSE) -> 0.30814101 | D27: T.INV
A28: -0.4 | B28: =_xlfn.T.DIST(A28,$B$2,FALSE) -> 0.34537808 | D28: prob | E28: 0.05
A29: -0.2 | B29: =_xlfn.T.DIST(A29,$B$2,FALSE) -> 0.37063998 | D29: df | E29: 10
A30: 0 | B30: =_xlfn.T.DIST(A30,$B$2,FALSE) -> 0.37960669 | D30: I.Inv | E30: =_xlfn.T.INV(E28,E29) -> -1.8124611
A31: 0.2 | B31: =_xlfn.T.DIST(A31,$B$2,FALSE) -> 0.37063998
A32: 0.4 | B32: =_xlfn.T.DIST(A32,$B$2,FALSE) -> 0.34537808 | D32: T.DIST
A33: 0.6 | B33: =_xlfn.T.DIST(A33,$B$2,FALSE) -> 0.30814101 | D33: x | E33: -1
A34: 0.8 | B34: =_xlfn.T.DIST(A34,$B$2,FALSE) -> 0.26448836 | D34: df | E34: 10 | F34: (degrees freedom)
A35: 1 | B35: =_xlfn.T.DIST(A35,$B$2,FALSE) -> 0.2196798 | D35: TRUE
A36: 1.2 | B36: =_xlfn.T.DIST(A36,$B$2,FALSE) -> 0.17765861 | D36: ="Probability of outcomes to the left of "&E33 -> Probability of outcomes to the left of -1
A37: 1.4 | B37: =_xlfn.T.DIST(A37,$B$2,FALSE) -> 0.14073955 | D37: T | E37: =_xlfn.T.DIST(E33,E34,TRUE) -> 0.17044657
A38: 1.6 | B38: =_xlfn.T.DIST(A38,$B$2,FALSE) -> 0.10981925
A39: 1.8 | B39: =_xlfn.T.DIST(A39,$B$2,FALSE) -> 0.084812963
A40: 2 | B40: =_xlfn.T.DIST(A40,$B$2,FALSE) -> 0.06509031
A41: 2.2 | B41: =_xlfn.T.DIST(A41,$B$2,FALSE) -> 0.049803352
A42: 2.4 | B42: =_xlfn.T.DIST(A42,$B$2,FALSE) -> 0.038089657
A43: 2.6 | B43: =_xlfn.T.DIST(A43,$B$2,FALSE) -> 0.029175742
A44: 2.8 | B44: =_xlfn.T.DIST(A44,$B$2,FALSE) -> 0.022415519
A45: 3 | B45: =_xlfn.T.DIST(A45,$B$2,FALSE) -> 0.017292579
A46: 3.2 | B46: =_xlfn.T.DIST(A46,$B$2,FALSE) -> 0.013405684
A47: 3.4 | B47: =_xlfn.T.DIST(A47,$B$2,FALSE) -> 0.010448715
A48: 3.6 | B48: =_xlfn.T.DIST(A48,$B$2,FALSE) -> 0.0081907727
A49: 3.8 | B49: =_xlfn.T.DIST(A49,$B$2,FALSE) -> 0.0064588484
... A55: 5 | B55: =_xlfn.T.DIST(A55,$B$2,FALSE) -> 0.0017574384

Sheet Central Limit Th.
A1: The Central Limit Theorem
A3: Population data:
A4: Mean | B4: µ
A5: Standard Deviation | B5: σ
A7: Sample Data:
A8: Sample Mean | B8: x-bar
A9: Sample SD | B9: s
D18: !!
O29: Typically you will not take multiple samples!
O30: You tend to take one sample and use confidence interval and/or hypothesis testing.
